BEGIN:VCALENDAR
VERSION:2.0
CALSCALE:GREGORIAN
PRODID:adamgibbons/ics
METHOD:PUBLISH
X-PUBLISHED-TTL:PT1H
BEGIN:VEVENT
UID:55@agenda.swing.bzh
SUMMARY:Swing au Grand hôtel de la mer
DTSTAMP:20260424T135950Z
DTSTART:20260424T174500Z
DTEND:20260424T200000Z
URL:https://agenda.swing.bzh/event/swing-au-grand-hotel-de-la-mer-1
LOCATION:Morgat - 17 rue d'Ys CROZON
STATUS:CONFIRMED
CATEGORIES:
END:VEVENT
END:VCALENDAR
